BEGIN:VCALENDAR
VERSION:2.0
PRODID:-//eventon.com NONSGML v1.0//EN
BEGIN:VEVENT
UID:69ea64430b14c
DTSTAMP:20260423T202611
DTSTART:20171128T200000Z
DTEND:20171128T235000Z
TZID:UTC
LOCATION:Hermitage Amsterdam Amstel 51\,  1018 EJ Amsterdam
SUMMARY:Don KosakenChor Russland & Misha Fomin solo
DESCRIPTION: Dirigent Marcel N.Verhoeff\nhttps://www.mishafomin.com/concerts/don-kosakenchor-russland-misha-fomin-solo/
URL:https://www.mishafomin.com/concerts/don-kosakenchor-russland-misha-fomin-solo/
END:VEVENT
END:VCALENDAR