BEGIN:VCALENDAR
VERSION:2.0
PRODID:-//eventon.com NONSGML v1.0//EN
BEGIN:VEVENT
UID:69e9626f51ba5
DTSTAMP:20260423T020607
DTSTART:20130526T140000Z
DTEND:20130526T150000Z
TZID:UTC
LOCATION:Hermitage Amsterdam Amstel 51\,  1018 EJ Amsterdam
SUMMARY:Hermitage Kerkzaal\,  Amsterdam
DESCRIPTION: Hermitage Kerkzaal\,  Amsterdam\nhttps://www.mishafomin.com/concerts/hermitage-kerkzaal-amsterdam/
URL:https://www.mishafomin.com/concerts/hermitage-kerkzaal-amsterdam/
END:VEVENT
END:VCALENDAR