BEGIN:VCALENDAR
VERSION:2.0
PRODID:-//eventon.com NONSGML v1.0//EN
BEGIN:VEVENT
UID:69e76d6d96299
DTSTAMP:20260421T142829
DTSTART:20140329T200000Z
DTEND:20140329T000000Z
TZID:UTC
LOCATION:Alblas Concerten Abbekesdoel 80\,  Bleskensgraaf
SUMMARY:Steeckershill\,  Bleskensgraaf
DESCRIPTION: Steeckershill\,  Bleskensgraaf\nhttps://www.mishafomin.com/concerts/steeckershill-bleskensgraaf-2/
URL:https://www.mishafomin.com/concerts/steeckershill-bleskensgraaf-2/
END:VEVENT
END:VCALENDAR